BEGIN:VCALENDAR
VERSION:2.0
PRODID:-//Société de Tir d&#039;Apples - ECPv6.15.20//NONSGML v1.0//EN
CALSCALE:GREGORIAN
METHOD:PUBLISH
X-WR-CALNAME:Société de Tir d&#039;Apples
X-ORIGINAL-URL:https://www.tirapples.ch
X-WR-CALDESC:Évènements pour Société de Tir d&#039;Apples
REFRESH-INTERVAL;VALUE=DURATION:PT1H
X-Robots-Tag:noindex
X-PUBLISHED-TTL:PT1H
BEGIN:VTIMEZONE
TZID:Europe/Zurich
BEGIN:DAYLIGHT
TZOFFSETFROM:+0100
TZOFFSETTO:+0200
TZNAME:CEST
DTSTART:20250330T010000
END:DAYLIGHT
BEGIN:STANDARD
TZOFFSETFROM:+0200
TZOFFSETTO:+0100
TZNAME:CET
DTSTART:20251026T010000
END:STANDARD
BEGIN:DAYLIGHT
TZOFFSETFROM:+0100
TZOFFSETTO:+0200
TZNAME:CEST
DTSTART:20260329T010000
END:DAYLIGHT
BEGIN:STANDARD
TZOFFSETFROM:+0200
TZOFFSETTO:+0100
TZNAME:CET
DTSTART:20261025T010000
END:STANDARD
BEGIN:DAYLIGHT
TZOFFSETFROM:+0100
TZOFFSETTO:+0200
TZNAME:CEST
DTSTART:20270328T010000
END:DAYLIGHT
BEGIN:STANDARD
TZOFFSETFROM:+0200
TZOFFSETTO:+0100
TZNAME:CET
DTSTART:20271031T010000
END:STANDARD
END:VTIMEZONE
BEGIN:VEVENT
DTSTART;TZID=Europe/Zurich:20260421T180000
DTEND;TZID=Europe/Zurich:20260421T200000
DTSTAMP:20260420T200854
CREATED:20260326T154803Z
LAST-MODIFIED:20260326T160536Z
UID:870-1776794400-1776801600@www.tirapples.ch
SUMMARY:Entraînement F 300m (Libre)
DESCRIPTION:
URL:https://www.tirapples.ch/calendrier/entrainement-f-300m-libre-5/
LOCATION:Stand de Tir d’Apples\, Apples\, 1143\, Switzerland
CATEGORIES:Entraînements,Tirs
END:VEVENT
BEGIN:VEVENT
DTSTART;TZID=Europe/Zurich:20260425T083000
DTEND;TZID=Europe/Zurich:20260425T120000
DTSTAMP:20260420T200854
CREATED:20260326T155324Z
LAST-MODIFIED:20260326T155324Z
UID:900-1777105800-1777118400@www.tirapples.ch
SUMMARY:Formation F 300m (Entraînement)
DESCRIPTION:
URL:https://www.tirapples.ch/calendrier/formation-f-300m-entrainement/
LOCATION:Stand de Tir d’Apples\, Apples\, 1143\, Switzerland
CATEGORIES:Cours,JT
END:VEVENT
BEGIN:VEVENT
DTSTART;TZID=Europe/Zurich:20260425T083000
DTEND;TZID=Europe/Zurich:20260425T163000
DTSTAMP:20260420T200854
CREATED:20260326T155324Z
LAST-MODIFIED:20260326T155324Z
UID:901-1777105800-1777134600@www.tirapples.ch
SUMMARY:Cours Tir 7 & 8 & Concours Cantonal JT
DESCRIPTION:Journée Complète (1/2)
URL:https://www.tirapples.ch/calendrier/cours-tir-7-8-concours-cantonal-jt/
LOCATION:Stand de Tir d’Apples\, Apples\, 1143\, Switzerland
CATEGORIES:Cours,JT
END:VEVENT
BEGIN:VEVENT
DTSTART;TZID=Europe/Zurich:20260425T120000
DTEND;TZID=Europe/Zurich:20260425T133000
DTSTAMP:20260420T200854
CREATED:20260326T155324Z
LAST-MODIFIED:20260326T155324Z
UID:902-1777118400-1777123800@www.tirapples.ch
SUMMARY:Repas JT
DESCRIPTION:
URL:https://www.tirapples.ch/calendrier/repas-jt-2/
LOCATION:Stand de Tir d’Apples\, Apples\, 1143\, Switzerland
CATEGORIES:Cours,JT
END:VEVENT
BEGIN:VEVENT
DTSTART;TZID=Europe/Zurich:20260428T180000
DTEND;TZID=Europe/Zurich:20260428T200000
DTSTAMP:20260420T200854
CREATED:20260326T154803Z
LAST-MODIFIED:20260326T160536Z
UID:871-1777399200-1777406400@www.tirapples.ch
SUMMARY:Entraînement F 300m (Libre)
DESCRIPTION:
URL:https://www.tirapples.ch/calendrier/entrainement-f-300m-libre-6/
LOCATION:Stand de Tir d’Apples\, Apples\, 1143\, Switzerland
CATEGORIES:Entraînements,Tirs
END:VEVENT
BEGIN:VEVENT
DTSTART;TZID=Europe/Zurich:20260505T180000
DTEND;TZID=Europe/Zurich:20260505T200000
DTSTAMP:20260420T200854
CREATED:20260326T154803Z
LAST-MODIFIED:20260326T160536Z
UID:872-1778004000-1778011200@www.tirapples.ch
SUMMARY:Entraînement F 300m (Libre)
DESCRIPTION:
URL:https://www.tirapples.ch/calendrier/entrainement-f-300m-libre-7/
LOCATION:Stand de Tir d’Apples\, Apples\, 1143\, Switzerland
CATEGORIES:Entraînements,Tirs
END:VEVENT
BEGIN:VEVENT
DTSTART;TZID=Europe/Zurich:20260509T083000
DTEND;TZID=Europe/Zurich:20260509T120000
DTSTAMP:20260420T200854
CREATED:20260326T155324Z
LAST-MODIFIED:20260326T155324Z
UID:903-1778315400-1778328000@www.tirapples.ch
SUMMARY:Entrainement Campagnarde & Tir Programme Obligatoire
DESCRIPTION:
URL:https://www.tirapples.ch/calendrier/entrainement-campagnarde-tir-programme-obligatoire-2/
LOCATION:Stand de Tir d’Apples\, Apples\, 1143\, Switzerland
CATEGORIES:Cours,JT
END:VEVENT
BEGIN:VEVENT
DTSTART;TZID=Europe/Zurich:20260512T180000
DTEND;TZID=Europe/Zurich:20260512T200000
DTSTAMP:20260420T200854
CREATED:20260326T154803Z
LAST-MODIFIED:20260326T160536Z
UID:873-1778608800-1778616000@www.tirapples.ch
SUMMARY:Entraînement F 300m (Prépa TFC)
DESCRIPTION:Préparation TFC
URL:https://www.tirapples.ch/calendrier/entrainement-f-300m-prepa-tfc/
LOCATION:Stand de Tir d’Apples\, Apples\, 1143\, Switzerland
CATEGORIES:Entraînements,Tirs
END:VEVENT
BEGIN:VEVENT
DTSTART;TZID=Europe/Zurich:20260519T180000
DTEND;TZID=Europe/Zurich:20260519T200000
DTSTAMP:20260420T200854
CREATED:20260326T155324Z
LAST-MODIFIED:20260326T161342Z
UID:874-1779213600-1779220800@www.tirapples.ch
SUMMARY:TO / PO (Séance 1/3)
DESCRIPTION:Moniteurs TO/PO
URL:https://www.tirapples.ch/calendrier/to-po-seance-1-3/
LOCATION:Stand de Tir d’Apples\, Apples\, 1143\, Switzerland
CATEGORIES:Programme Obligatoire,Tirs,Tirs Fédéraux
END:VEVENT
BEGIN:VEVENT
DTSTART;TZID=Europe/Zurich:20260523T083000
DTEND;TZID=Europe/Zurich:20260523T120000
DTSTAMP:20260420T200854
CREATED:20260326T155324Z
LAST-MODIFIED:20260326T155324Z
UID:904-1779525000-1779537600@www.tirapples.ch
SUMMARY:Entrainement Tir en Campagne\, Qualification Campagnarde\, Programme Obligatoire
DESCRIPTION:
URL:https://www.tirapples.ch/calendrier/entrainement-tir-en-campagne-qualification-campagnarde-programme-obligatoire-2/
LOCATION:Stand de Tir d’Apples\, Apples\, 1143\, Switzerland
CATEGORIES:Cours,JT
END:VEVENT
BEGIN:VEVENT
DTSTART;TZID=Europe/Zurich:20260526T180000
DTEND;TZID=Europe/Zurich:20260526T200000
DTSTAMP:20260420T200854
CREATED:20260326T154803Z
LAST-MODIFIED:20260326T160536Z
UID:875-1779818400-1779825600@www.tirapples.ch
SUMMARY:Entraînement F 300m
DESCRIPTION:
URL:https://www.tirapples.ch/calendrier/entrainement-f-300m/
LOCATION:Stand de Tir d’Apples\, Apples\, 1143\, Switzerland
CATEGORIES:Entraînements,Tirs
END:VEVENT
BEGIN:VEVENT
DTSTART;TZID=Europe/Zurich:20260529T000000
DTEND;TZID=Europe/Zurich:20260530T000000
DTSTAMP:20260420T200854
CREATED:20260326T155628Z
LAST-MODIFIED:20260326T161041Z
UID:876-1780012800-1780099200@www.tirapples.ch
SUMMARY:Tir Fédéral en Campagne
DESCRIPTION:
URL:https://www.tirapples.ch/calendrier/tc/
LOCATION:Stand de tir de Berolle\, Chem. Du Cambreze 10\, Berolle\, Vaud\, 1149\, Switzerland
CATEGORIES:Tir en Campagne,Tirs,Tirs Fédéraux
END:VEVENT
BEGIN:VEVENT
DTSTART;TZID=Europe/Zurich:20260530T090000
DTEND;TZID=Europe/Zurich:20260530T170000
DTSTAMP:20260420T200854
CREATED:20260326T155324Z
LAST-MODIFIED:20260326T155324Z
UID:905-1780131600-1780160400@www.tirapples.ch
SUMMARY:Tir Fédéral en Campagne (TFC)
DESCRIPTION:TFC JT
URL:https://www.tirapples.ch/calendrier/tir-federal-en-campagne-tfc/
CATEGORIES:Cours,JT
END:VEVENT
BEGIN:VEVENT
DTSTART;TZID=Europe/Zurich:20260602T180000
DTEND;TZID=Europe/Zurich:20260602T200000
DTSTAMP:20260420T200854
CREATED:20260326T155628Z
LAST-MODIFIED:20260326T155628Z
UID:877-1780423200-1780430400@www.tirapples.ch
SUMMARY:Tir Fédéral en Campagne (TFC)
DESCRIPTION:Report Post-TFC (29-31.05)
URL:https://www.tirapples.ch/calendrier/tir-federal-en-campagne-tfc-2/
LOCATION:Stand de Tir d’Apples\, Apples\, 1143\, Switzerland
CATEGORIES:Tirs
END:VEVENT
BEGIN:VEVENT
DTSTART;TZID=Europe/Zurich:20260606T083000
DTEND;TZID=Europe/Zurich:20260606T120000
DTSTAMP:20260420T200854
CREATED:20260326T155325Z
LAST-MODIFIED:20260326T155325Z
UID:906-1780734600-1780747200@www.tirapples.ch
SUMMARY:Tir du Programme Obligatoire
DESCRIPTION:
URL:https://www.tirapples.ch/calendrier/tir-du-programme-obligatoire/
LOCATION:Stand de Tir d’Apples\, Apples\, 1143\, Switzerland
CATEGORIES:Cours,JT
END:VEVENT
BEGIN:VEVENT
DTSTART;TZID=Europe/Zurich:20260609T180000
DTEND;TZID=Europe/Zurich:20260609T200000
DTSTAMP:20260420T200854
CREATED:20260326T154803Z
LAST-MODIFIED:20260326T160535Z
UID:878-1781028000-1781035200@www.tirapples.ch
SUMMARY:Entraînement F 300m (Libre)
DESCRIPTION:
URL:https://www.tirapples.ch/calendrier/entrainement-f-300m-libre-8/
LOCATION:Stand de Tir d’Apples\, Apples\, 1143\, Switzerland
CATEGORIES:Entraînements,Tirs
END:VEVENT
BEGIN:VEVENT
DTSTART;TZID=Europe/Zurich:20260617T000000
DTEND;TZID=Europe/Zurich:20260620T000000
DTSTAMP:20260420T200854
CREATED:20260326T155628Z
LAST-MODIFIED:20260326T155628Z
UID:880-1781654400-1781913600@www.tirapples.ch
SUMMARY:Tir des Bougeries
DESCRIPTION:
URL:https://www.tirapples.ch/calendrier/tir-des-bougeries-4/
LOCATION:Stand de Tir d’Apples\, Apples\, 1143\, Switzerland
CATEGORIES:Tirs
END:VEVENT
BEGIN:VEVENT
DTSTART;TZID=Europe/Zurich:20260621T000000
DTEND;TZID=Europe/Zurich:20260621T000000
DTSTAMP:20260420T200854
CREATED:20260326T155808Z
LAST-MODIFIED:20260326T155808Z
UID:881-1782000000-1782000000@www.tirapples.ch
SUMMARY:Tir de Morat
DESCRIPTION:
URL:https://www.tirapples.ch/calendrier/tir-de-morat/
LOCATION:Monument de la Bataille de Morat – Bodenmünzi\, Bodenmünzi\, Murtenstrasse\, Murten\, 3280\, Switzerland
CATEGORIES:Tirs
END:VEVENT
BEGIN:VEVENT
DTSTART;TZID=Europe/Zurich:20260623T180000
DTEND;TZID=Europe/Zurich:20260623T200000
DTSTAMP:20260420T200854
CREATED:20260326T151406Z
LAST-MODIFIED:20260326T160318Z
UID:882-1782237600-1782244800@www.tirapples.ch
SUMMARY:TO / PO (Séance 2/3)
DESCRIPTION:Moniteurs TO/PO
URL:https://www.tirapples.ch/calendrier/to-po-seance-2-3/
LOCATION:Stand de Tir d’Apples\, Apples\, 1143\, Switzerland
CATEGORIES:Programme Obligatoire,Tirs,Tirs Fédéraux
ORGANIZER;CN="Soci%C3%A9t%C3%A9 de Tir d'Apples":MAILTO:info@tirapples.ch
END:VEVENT
BEGIN:VEVENT
DTSTART;TZID=Europe/Zurich:20260630T180000
DTEND;TZID=Europe/Zurich:20260630T200000
DTSTAMP:20260420T200854
CREATED:20260326T155628Z
LAST-MODIFIED:20260326T160535Z
UID:883-1782842400-1782849600@www.tirapples.ch
SUMMARY:Entraînement F 300m
DESCRIPTION:
URL:https://www.tirapples.ch/calendrier/entrainement-f-300m-2/
LOCATION:Stand de Tir d’Apples\, Apples\, 1143\, Switzerland
CATEGORIES:Entraînements,Tirs
END:VEVENT
BEGIN:VEVENT
DTSTART;TZID=Europe/Zurich:20260707T180000
DTEND;TZID=Europe/Zurich:20260707T200000
DTSTAMP:20260420T200854
CREATED:20260326T155628Z
LAST-MODIFIED:20260326T160535Z
UID:884-1783447200-1783454400@www.tirapples.ch
SUMMARY:Entraînement F 300m
DESCRIPTION:Rotation d’été
URL:https://www.tirapples.ch/calendrier/entrainement-f-300m-3/
LOCATION:Stand de Tir d’Apples\, Apples\, 1143\, Switzerland
CATEGORIES:Entraînements,Tirs
END:VEVENT
BEGIN:VEVENT
DTSTART;TZID=Europe/Zurich:20260711T000000
DTEND;TZID=Europe/Zurich:20260711T000000
DTSTAMP:20260420T200854
CREATED:20260326T155325Z
LAST-MODIFIED:20260326T155325Z
UID:908-1783728000-1783728000@www.tirapples.ch
SUMMARY:AVTS - Tournoi Junior de Printemps
DESCRIPTION:Clôture du Programme de Formation (2/2)
URL:https://www.tirapples.ch/calendrier/avts-tournoi-junior-de-printemps-2/
CATEGORIES:Cours,JT
END:VEVENT
BEGIN:VEVENT
DTSTART;TZID=Europe/Zurich:20260714T180000
DTEND;TZID=Europe/Zurich:20260714T200000
DTSTAMP:20260420T200854
CREATED:20260326T155628Z
LAST-MODIFIED:20260326T155628Z
UID:885-1784052000-1784059200@www.tirapples.ch
SUMMARY:Entraînement F 300m
DESCRIPTION:
URL:https://www.tirapples.ch/calendrier/entrainement-f-300m-4/
LOCATION:Stand de Tir d’Apples\, Apples\, 1143\, Switzerland
CATEGORIES:Tirs
END:VEVENT
BEGIN:VEVENT
DTSTART;TZID=Europe/Zurich:20260811T180000
DTEND;TZID=Europe/Zurich:20260811T200000
DTSTAMP:20260420T200854
CREATED:20260326T155628Z
LAST-MODIFIED:20260326T155628Z
UID:886-1786471200-1786478400@www.tirapples.ch
SUMMARY:Entraînement F 300m
DESCRIPTION:
URL:https://www.tirapples.ch/calendrier/entrainement-f-300m-5/
LOCATION:Stand de Tir d’Apples\, Apples\, 1143\, Switzerland
CATEGORIES:Tirs
END:VEVENT
BEGIN:VEVENT
DTSTART;TZID=Europe/Zurich:20260818T180000
DTEND;TZID=Europe/Zurich:20260818T200000
DTSTAMP:20260420T200854
CREATED:20260326T155628Z
LAST-MODIFIED:20260326T155628Z
UID:887-1787076000-1787083200@www.tirapples.ch
SUMMARY:Entraînement F 300m
DESCRIPTION:Préparation TO/PO final
URL:https://www.tirapples.ch/calendrier/entrainement-f-300m-6/
LOCATION:Stand de Tir d’Apples\, Apples\, 1143\, Switzerland
CATEGORIES:Tirs
END:VEVENT
BEGIN:VEVENT
DTSTART;TZID=Europe/Zurich:20260822T083000
DTEND;TZID=Europe/Zurich:20260822T120000
DTSTAMP:20260420T200854
CREATED:20260326T155325Z
LAST-MODIFIED:20260326T155325Z
UID:909-1787387400-1787400000@www.tirapples.ch
SUMMARY:Entrainement Tournoi Junior d’Automne
DESCRIPTION:
URL:https://www.tirapples.ch/calendrier/entrainement-tournoi-junior-dautomne-2/
LOCATION:Stand de Tir d’Apples\, Apples\, 1143\, Switzerland
CATEGORIES:Cours,JT
END:VEVENT
BEGIN:VEVENT
DTSTART;TZID=Europe/Zurich:20260825T180000
DTEND;TZID=Europe/Zurich:20260825T200000
DTSTAMP:20260420T200854
CREATED:20260326T155324Z
LAST-MODIFIED:20260326T160318Z
UID:888-1787680800-1787688000@www.tirapples.ch
SUMMARY:TO / PO (Séance 3/3 - FINAL)
DESCRIPTION:Clôture Réglementaire
URL:https://www.tirapples.ch/calendrier/to-po-seance-3-3-final/
LOCATION:Stand de Tir d’Apples\, Apples\, 1143\, Switzerland
CATEGORIES:Cours,JT,Programme Obligatoire,Tirs,Tirs Fédéraux
END:VEVENT
BEGIN:VEVENT
DTSTART;TZID=Europe/Zurich:20260829T083000
DTEND;TZID=Europe/Zurich:20260829T120000
DTSTAMP:20260420T200854
CREATED:20260326T155325Z
LAST-MODIFIED:20260326T155325Z
UID:910-1787992200-1788004800@www.tirapples.ch
SUMMARY:Entrainement Tournoi Junior d’Automne
DESCRIPTION:
URL:https://www.tirapples.ch/calendrier/entrainement-tournoi-junior-dautomne-3/
LOCATION:Stand de Tir d’Apples\, Apples\, 1143\, Switzerland
CATEGORIES:Cours,JT
END:VEVENT
BEGIN:VEVENT
DTSTART;TZID=Europe/Zurich:20260901T180000
DTEND;TZID=Europe/Zurich:20260901T200000
DTSTAMP:20260420T200854
CREATED:20260326T150610Z
LAST-MODIFIED:20260326T150839Z
UID:889-1788285600-1788292800@www.tirapples.ch
SUMMARY:Entraînement F 300m (Libre)
DESCRIPTION:
URL:https://www.tirapples.ch/calendrier/entrainement-f-300m-libre-2/
LOCATION:Stand de Tir d’Apples\, Apples\, 1143\, Switzerland
CATEGORIES:Entraînements,Tirs
ORGANIZER;CN="Soci%C3%A9t%C3%A9 de Tir d'Apples":MAILTO:info@tirapples.ch
END:VEVENT
BEGIN:VEVENT
DTSTART;TZID=Europe/Zurich:20260905T000000
DTEND;TZID=Europe/Zurich:20260905T000000
DTSTAMP:20260420T200854
CREATED:20260326T155325Z
LAST-MODIFIED:20260326T155325Z
UID:911-1788566400-1788566400@www.tirapples.ch
SUMMARY:AVTS - Tournoi Junior d'Automne
DESCRIPTION:
URL:https://www.tirapples.ch/calendrier/avts-tournoi-junior-dautomne-2/
CATEGORIES:Cours,JT
END:VEVENT
END:VCALENDAR