BEGIN:VCALENDAR
VERSION:2.0
PRODID:-//Société de Tir d&#039;Apples - ECPv6.15.20//NONSGML v1.0//EN
CALSCALE:GREGORIAN
METHOD:PUBLISH
X-ORIGINAL-URL:https://www.tirapples.ch
X-WR-CALDESC:Évènements pour Société de Tir d&#039;Apples
REFRESH-INTERVAL;VALUE=DURATION:PT1H
X-Robots-Tag:noindex
X-PUBLISHED-TTL:PT1H
BEGIN:VTIMEZONE
TZID:Europe/Zurich
BEGIN:DAYLIGHT
TZOFFSETFROM:+0100
TZOFFSETTO:+0200
TZNAME:CEST
DTSTART:20240331T010000
END:DAYLIGHT
BEGIN:STANDARD
TZOFFSETFROM:+0200
TZOFFSETTO:+0100
TZNAME:CET
DTSTART:20241027T010000
END:STANDARD
BEGIN:DAYLIGHT
TZOFFSETFROM:+0100
TZOFFSETTO:+0200
TZNAME:CEST
DTSTART:20250330T010000
END:DAYLIGHT
BEGIN:STANDARD
TZOFFSETFROM:+0200
TZOFFSETTO:+0100
TZNAME:CET
DTSTART:20251026T010000
END:STANDARD
BEGIN:DAYLIGHT
TZOFFSETFROM:+0100
TZOFFSETTO:+0200
TZNAME:CEST
DTSTART:20260329T010000
END:DAYLIGHT
BEGIN:STANDARD
TZOFFSETFROM:+0200
TZOFFSETTO:+0100
TZNAME:CET
DTSTART:20261025T010000
END:STANDARD
END:VTIMEZONE
BEGIN:VEVENT
DTSTART;VALUE=DATE:20250430
DTEND;VALUE=DATE:20250504
DTSTAMP:20260420T005304
CREATED:20250307T122626Z
LAST-MODIFIED:20250307T122626Z
UID:755-1745971200-1746316799@www.tirapples.ch
SUMMARY:Tir des Sécherons
DESCRIPTION:Les horaires de tir sont les suivants: \nMe 30.04/1600-1930\nJe 01.05/1400-1930\nVe 02.05/1400-1930\nSa 03.05/0830-1200 \nLe plan de tir ne se trouve pas actuellement sur le web. \nL’inscription peut se faire auprès de David Senn
URL:https://www.tirapples.ch/calendrier/tir-des-secherons/
LOCATION:Stand de tir de Villars-sous-Yens\, Chemin du Moulin\, Villars-sous-Yens\, 1168\, Switzerland
CATEGORIES:CSOC
ORGANIZER;CN="Soci%C3%A9t%C3%A9 de Tir Sportif 'Le Chaney' Villars-sous-Yens":MAILTO:cdefferrard@hotmail.com
END:VEVENT
BEGIN:VEVENT
DTSTART;TZID=Europe/Zurich:20250501T080000
DTEND;TZID=Europe/Zurich:20250503T170000
DTSTAMP:20260420T005304
CREATED:20250307T105422Z
LAST-MODIFIED:20250307T105443Z
UID:752-1746086400-1746291600@www.tirapples.ch
SUMMARY:Tir du Corjon
DESCRIPTION:Les horaires des tirs sont les suivants:\nJe 24.04/1600-2000\nJe 01.05/1600-2000\nVe 02.05/1500-2000\nSa 03.05/0830-1200 \nLe plan de tir est disponible ici:  \nL’inscription peut se faire auprès de David Senn
URL:https://www.tirapples.ch/calendrier/tir-du-corjon/
LOCATION:Stand de tir d’Echallens\, Chemin du stand\, Echallens\, 1040\, Switzerland
CATEGORIES:CSOC
ORGANIZER;CN="Soci%C3%A9t%C3%A9 de Tir Sportif%2C Echallens":MAILTO:pry1040@gmail.com
END:VEVENT
BEGIN:VEVENT
DTSTART;TZID=Europe/Zurich:20250503T080000
DTEND;TZID=Europe/Zurich:20250503T163000
DTSTAMP:20260420T005304
CREATED:20250216T202105Z
LAST-MODIFIED:20250216T204445Z
UID:546-1746259200-1746289800@www.tirapples.ch
SUMMARY:Cours Tir 7 & 8; Qualifications Concours Cantonal JT
DESCRIPTION:Matin\nPremière et deuxième années:\nPréparation au tir\nRévision\nAnalyse – position de tir – départ du coup coordonné \nTir des programmes 7 & 8 \nTroisième année & plus\nPréparation au tir\nAnalyse – position de tir – départ du coup coordonné \nTir des programmes 7 & 8 \nMidi: Lunch à la cantine du stand  \nAprès-midi:\nQualifications Concours Cantonal JT \nService de parc
URL:https://www.tirapples.ch/calendrier/cours-tir-7-qualifications-concours-cantonal-jt/
LOCATION:Stand de Tir d’Apples\, Apples\, 1143\, Switzerland
CATEGORIES:Concours AVTS U17 & U 21,Cours,Entrainement F300,JT,JT - évènements
END:VEVENT
BEGIN:VEVENT
DTSTART;TZID=Europe/Zurich:20250503T120000
DTEND;TZID=Europe/Zurich:20250503T133000
DTSTAMP:20260420T005304
CREATED:20250216T202313Z
LAST-MODIFIED:20250216T202813Z
UID:548-1746273600-1746279000@www.tirapples.ch
SUMMARY:Repas JT
DESCRIPTION:Repas offert pour l’ensemble des participants au cours JT ainsi que les moniteurs
URL:https://www.tirapples.ch/calendrier/repas-jt/
LOCATION:Stand de Tir d’Apples\, Apples\, 1143\, Switzerland
CATEGORIES:JT,JT - évènements
ORGANIZER;CN="Soci%C3%A9t%C3%A9 de Tir d'Apples":MAILTO:info@tirapples.ch
END:VEVENT
BEGIN:VEVENT
DTSTART;TZID=Europe/Zurich:20250506T180000
DTEND;TZID=Europe/Zurich:20250506T200000
DTSTAMP:20260420T005304
CREATED:20250227T161859Z
LAST-MODIFIED:20250227T161859Z
UID:604-1746554400-1746561600@www.tirapples.ch
SUMMARY:Entraînement F300
DESCRIPTION:Séance d’entraînement au tir 300m – Préparation CVG\, CSOC
URL:https://www.tirapples.ch/calendrier/entrainement-f300-6/
LOCATION:Stand de Tir d’Apples\, Apples\, 1143\, Switzerland
ORGANIZER;CN="Soci%C3%A9t%C3%A9 de Tir d'Apples":MAILTO:info@tirapples.ch
END:VEVENT
BEGIN:VEVENT
DTSTART;VALUE=DATE:20250508
DTEND;VALUE=DATE:20250511
DTSTAMP:20260420T005304
CREATED:20250307T123010Z
LAST-MODIFIED:20250307T123010Z
UID:757-1746662400-1746921599@www.tirapples.ch
SUMMARY:Tir de la Grotte
DESCRIPTION:Les horaires de tir sont les suivants: \nJe 08.05/1700-2030\nVe 09.05/1700-2030\nSa 10.06/0800-1200	 \nLe réglement n’est pas disponible sur le web \nIl est possible de s’incrire auprès de David Senn
URL:https://www.tirapples.ch/calendrier/tir-de-la-grotte/
LOCATION:Stand de tir de l’Abergement\, Chem. du Stand 10\, L'Abergement\, 1355\, Switzerland
CATEGORIES:CSOC
ORGANIZER;CN="Soci%C3%A9t%C3%A9 de Tir Les Ourloups - L'Abergement-Sergey":MAILTO:melo-f@hotmail.com
END:VEVENT
BEGIN:VEVENT
DTSTART;TZID=Europe/Zurich:20250510T083000
DTEND;TZID=Europe/Zurich:20250510T120000
DTSTAMP:20260420T005304
CREATED:20250216T204418Z
LAST-MODIFIED:20250216T204418Z
UID:550-1746865800-1746878400@www.tirapples.ch
SUMMARY:Entraînement Campagnarde & Tir Programme Obligatoire
DESCRIPTION:L’ensemble des participants au cours JT:\nEntraînement Campagnarde – Programme Tir en Campagne\nAnalyse – position de tir – départ du coup coordonné\nTir du Programme Obligatoire
URL:https://www.tirapples.ch/calendrier/entrainement-campagnarde-tir-programme-obligatoire/
LOCATION:Stand de Tir d’Apples\, Apples\, 1143\, Switzerland
CATEGORIES:Cours,Entrainement F300,JT
ORGANIZER;CN="Soci%C3%A9t%C3%A9 de Tir d'Apples":MAILTO:info@tirapples.ch
END:VEVENT
BEGIN:VEVENT
DTSTART;TZID=Europe/Zurich:20250513T180000
DTEND;TZID=Europe/Zurich:20250513T200000
DTSTAMP:20260420T005304
CREATED:20250227T164715Z
LAST-MODIFIED:20250324T211326Z
UID:608-1747159200-1747166400@www.tirapples.ch
SUMMARY:Entrainement PO & TC
DESCRIPTION:Entraînement Programme Obligatoire & Tir en Campagne – Tir de la Campagnarde \nPour de plus amples informations sur le programme obligatoire ou tir obligatoire\, vous pouvez consulter cette page qui lui est dédié: Programme Obligatoire \nPour de plus amples informations sur le Tir Fédéral en Campagne\, vous pouvez aller sur cette page: Tir Fédéral en Campagne
URL:https://www.tirapples.ch/calendrier/entrainement-po-tc/
LOCATION:Stand de Tir d’Apples\, Apples\, 1143\, Switzerland
CATEGORIES:Entraînements,La Campagnarde,Programme Obligatoire,Tir en Campagne,Tirs,Tirs Fédéraux
ORGANIZER;CN="Soci%C3%A9t%C3%A9 de Tir d'Apples":MAILTO:info@tirapples.ch
END:VEVENT
BEGIN:VEVENT
DTSTART;VALUE=DATE:20250514
DTEND;VALUE=DATE:20250518
DTSTAMP:20260420T005304
CREATED:20250324T074135Z
LAST-MODIFIED:20250324T074146Z
UID:760-1747180800-1747526399@www.tirapples.ch
SUMMARY:Tir du Goupil
DESCRIPTION:Les horaires sont:\nMe 14.05/1700-2030\nJe 15.05/1700-2030\nVe16.05/1400-2030\nSa 17.05/0830-1200 \nLe plan de tir est disponible ici: Plan de tir 2025 \nMerci de s’incrire auprès de David Senn
URL:https://www.tirapples.ch/calendrier/tir-du-goupil/
LOCATION:Stand de tir de Valeyres-sous-Rances\, Rte de Moncherand 1\, Valeyres-sous-Rances\, 1358\, Switzerland
CATEGORIES:CSOC
ORGANIZER;CN="Soci%C3%A9t%C3%A9 de Tir Sportif Le Goupil":MAILTO:conrad@louis-richard.ch
END:VEVENT
BEGIN:VEVENT
DTSTART;TZID=Europe/Zurich:20250517T083000
DTEND;TZID=Europe/Zurich:20250517T120000
DTSTAMP:20260420T005304
CREATED:20250216T210607Z
LAST-MODIFIED:20250216T210607Z
UID:552-1747470600-1747483200@www.tirapples.ch
SUMMARY:Entraînement Tir en Campagne\, Qualification Campagnarde\, Programme Obligatoire
DESCRIPTION:Ensemble des participants au cours: \nEntraînement Tir en Campagne\,\nQualification Campagnarde\,\nProgramme Obligatoire
URL:https://www.tirapples.ch/calendrier/entrainement-tir-en-campagne-qualification-campagnarde-programme-obligatoire/
LOCATION:Stand de Tir d’Apples\, Apples\, 1143\, Switzerland
CATEGORIES:Cours,Entraînements,JT
ORGANIZER;CN="Soci%C3%A9t%C3%A9 de Tir d'Apples":MAILTO:info@tirapples.ch
END:VEVENT
BEGIN:VEVENT
DTSTART;TZID=Europe/Zurich:20250520T180000
DTEND;TZID=Europe/Zurich:20250520T200000
DTSTAMP:20260420T005304
CREATED:20250216T152244Z
LAST-MODIFIED:20250216T153432Z
UID:507-1747764000-1747771200@www.tirapples.ch
SUMMARY:Tir Obligatoire - mai 2025
DESCRIPTION:Le mardi 20 mai\, la Société de Tir d’Apples vous accueille pour la seconde séance de tirs obligatoires. \nPour de plus amples informations\, vous pouvez consulter notre page:\nLes tirs obligatoires
URL:https://www.tirapples.ch/calendrier/tir-obligatoire-mai-2025/
CATEGORIES:Programme Obligatoire,Tirs
ORGANIZER;CN="Soci%C3%A9t%C3%A9 de Tir d'Apples":MAILTO:info@tirapples.ch
END:VEVENT
BEGIN:VEVENT
DTSTART;TZID=Europe/Zurich:20250523T170000
DTEND;TZID=Europe/Zurich:20250523T203000
DTSTAMP:20260420T005304
CREATED:20250227T220849Z
LAST-MODIFIED:20250227T220849Z
UID:656-1748019600-1748032200@www.tirapples.ch
SUMMARY:Tir en Campagne
DESCRIPTION:Pour de plus amples inforamtions concernant le tir en campagne cliquez ici: Tir en Campagne\, un historique et des détails
URL:https://www.tirapples.ch/calendrier/tir-en-campagne-2/
LOCATION:Stand de Tir de Mollens\, Chemin du Stand\, Mollens\, Vaud\, 1146\, Switzerland
CATEGORIES:Tir en Campagne,Tirs
END:VEVENT
BEGIN:VEVENT
DTSTART;TZID=Europe/Zurich:20250524T083000
DTEND;TZID=Europe/Zurich:20250524T120000
DTSTAMP:20260420T005304
CREATED:20250216T210931Z
LAST-MODIFIED:20250227T220550Z
UID:554-1748075400-1748088000@www.tirapples.ch
SUMMARY:Tir en Campagne
DESCRIPTION:Les participants au cours JT se retrouvent au stand de tir d’Apples à 08:30 puis se déplace au stand de tir de Mollens afin d’y effectuer leur tir en campagne. \nAprès le tir\, retour au Stand de tir d’Apples pour effectuer le service de parc\, et effectuer un débrief.
URL:https://www.tirapples.ch/calendrier/tir-en-campagne/
LOCATION:Stand de Tir de Mollens\, Chemin du Stand\, Mollens\, Vaud\, 1146\, Switzerland
CATEGORIES:Cours,JT,Programme Extérieur,Tir en Campagne,Tirs
ORGANIZER;CN="Soci%C3%A9t%C3%A9 de Tir d'Apples":MAILTO:info@tirapples.ch
END:VEVENT
BEGIN:VEVENT
DTSTART;TZID=Europe/Zurich:20250524T133000
DTEND;TZID=Europe/Zurich:20250524T163000
DTSTAMP:20260420T005304
CREATED:20250227T220940Z
LAST-MODIFIED:20250227T220940Z
UID:658-1748093400-1748104200@www.tirapples.ch
SUMMARY:Tir en Campagne
DESCRIPTION:Pour de plus amples inforamtions concernant le tir en campagne cliquez ici: Tir en Campagne\, un historique et des détails
URL:https://www.tirapples.ch/calendrier/tir-en-campagne-3/
LOCATION:Stand de Tir de Mollens\, Chemin du Stand\, Mollens\, Vaud\, 1146\, Switzerland
CATEGORIES:Tir en Campagne,Tirs
END:VEVENT
BEGIN:VEVENT
DTSTART;TZID=Europe/Zurich:20250527T180000
DTEND;TZID=Europe/Zurich:20250527T200000
DTSTAMP:20260420T005304
CREATED:20250227T162006Z
LAST-MODIFIED:20250227T162006Z
UID:606-1748368800-1748376000@www.tirapples.ch
SUMMARY:Entraînement F300
DESCRIPTION:Séance d’entraînement au tir 300m – Préparation CVG\, CSOC
URL:https://www.tirapples.ch/calendrier/entrainement-f300-7/
LOCATION:Stand de Tir d’Apples\, Apples\, 1143\, Switzerland
CATEGORIES:Entraînements,Tirs
ORGANIZER;CN="Soci%C3%A9t%C3%A9 de Tir d'Apples":MAILTO:info@tirapples.ch
END:VEVENT
END:VCALENDAR